BEGIN:VCALENDAR
VERSION:2.0
PRODID:-//rainer-gerhards.de - ECPv6.15.12.2//NONSGML v1.0//EN
CALSCALE:GREGORIAN
METHOD:PUBLISH
X-ORIGINAL-URL:https://www.rainer-gerhards.de
X-WR-CALDESC:Veranstaltungen für rainer-gerhards.de
REFRESH-INTERVAL;VALUE=DURATION:PT1H
X-Robots-Tag:noindex
X-PUBLISHED-TTL:PT1H
BEGIN:VTIMEZONE
TZID:Europe/Berlin
BEGIN:DAYLIGHT
TZOFFSETFROM:+0100
TZOFFSETTO:+0200
TZNAME:CEST
DTSTART:20230326T010000
END:DAYLIGHT
BEGIN:STANDARD
TZOFFSETFROM:+0200
TZOFFSETTO:+0100
TZNAME:CET
DTSTART:20231029T010000
END:STANDARD
BEGIN:DAYLIGHT
TZOFFSETFROM:+0100
TZOFFSETTO:+0200
TZNAME:CEST
DTSTART:20240331T010000
END:DAYLIGHT
BEGIN:STANDARD
TZOFFSETFROM:+0200
TZOFFSETTO:+0100
TZNAME:CET
DTSTART:20241027T010000
END:STANDARD
BEGIN:DAYLIGHT
TZOFFSETFROM:+0100
TZOFFSETTO:+0200
TZNAME:CEST
DTSTART:20250330T010000
END:DAYLIGHT
BEGIN:STANDARD
TZOFFSETFROM:+0200
TZOFFSETTO:+0100
TZNAME:CET
DTSTART:20251026T010000
END:STANDARD
END:VTIMEZONE
BEGIN:VEVENT
DTSTART;TZID=Europe/Berlin:20240713T183000
DTEND;TZID=Europe/Berlin:20240713T235000
DTSTAMP:20260424T191412
CREATED:20240712T154111Z
LAST-MODIFIED:20240712T154113Z
UID:19218-1720895400-1720914600@www.rainer-gerhards.de
SUMMARY:Dorfweiherfest TuS Großrindefeld
DESCRIPTION:Festauftakt mit Grußworten\, anschließend Bieranstich und Festbetrieb
URL:https://www.rainer-gerhards.de/veranstaltung/dorfweiherfest-tus-grossrindefeld/
LOCATION:Marktplatz Großrinderfeld\, Marktplatz 6\, Großrinderfeld\, BW\, 97950\, Deutschland
END:VEVENT
BEGIN:VEVENT
DTSTART;TZID=Europe/Berlin:20240714T103000
DTEND;TZID=Europe/Berlin:20240714T170000
DTSTAMP:20260424T191412
CREATED:20240712T154321Z
LAST-MODIFIED:20240712T154322Z
UID:19223-1720953000-1720976400@www.rainer-gerhards.de
SUMMARY:Dorfweiherfest TuS Großrinderfeld
DESCRIPTION:10:30 Uhr Frühschoppen11:30 Uhr Mittagessen13:00 Uhr Flohmarkt sowie Auftritte der Turngruppen und Spielstraße für Kinder
URL:https://www.rainer-gerhards.de/veranstaltung/dorfweiherfest-tus-grossrinderfeld/
LOCATION:Marktplatz Großrinderfeld\, Marktplatz 6\, Großrinderfeld\, BW\, 97950\, Deutschland
END:VEVENT
BEGIN:VEVENT
DTSTART;TZID=Europe/Berlin:20240720T080000
DTEND;TZID=Europe/Berlin:20240720T170000
DTSTAMP:20260424T191412
CREATED:20240712T154516Z
LAST-MODIFIED:20240712T154517Z
UID:19225-1721462400-1721494800@www.rainer-gerhards.de
SUMMARY:Spiel- und Sommerfest TSV Gerchsheim
DESCRIPTION:Fest
URL:https://www.rainer-gerhards.de/veranstaltung/spiel-und-sommerfest-tsv-gerchsheim/
END:VEVENT
END:VCALENDAR