BEGIN:VCALENDAR
VERSION:2.0
PRODID:-//rainer-gerhards.de - ECPv6.15.12.2//NONSGML v1.0//EN
CALSCALE:GREGORIAN
METHOD:PUBLISH
X-ORIGINAL-URL:https://www.rainer-gerhards.de
X-WR-CALDESC:Veranstaltungen für rainer-gerhards.de
REFRESH-INTERVAL;VALUE=DURATION:PT1H
X-Robots-Tag:noindex
X-PUBLISHED-TTL:PT1H
BEGIN:VTIMEZONE
TZID:Europe/Berlin
BEGIN:DAYLIGHT
TZOFFSETFROM:+0100
TZOFFSETTO:+0200
TZNAME:CEST
DTSTART:20230326T010000
END:DAYLIGHT
BEGIN:STANDARD
TZOFFSETFROM:+0200
TZOFFSETTO:+0100
TZNAME:CET
DTSTART:20231029T010000
END:STANDARD
BEGIN:DAYLIGHT
TZOFFSETFROM:+0100
TZOFFSETTO:+0200
TZNAME:CEST
DTSTART:20240331T010000
END:DAYLIGHT
BEGIN:STANDARD
TZOFFSETFROM:+0200
TZOFFSETTO:+0100
TZNAME:CET
DTSTART:20241027T010000
END:STANDARD
BEGIN:DAYLIGHT
TZOFFSETFROM:+0100
TZOFFSETTO:+0200
TZNAME:CEST
DTSTART:20250330T010000
END:DAYLIGHT
BEGIN:STANDARD
TZOFFSETFROM:+0200
TZOFFSETTO:+0100
TZNAME:CET
DTSTART:20251026T010000
END:STANDARD
END:VTIMEZONE
BEGIN:VEVENT
DTSTART;TZID=Europe/Berlin:20240501T100000
DTEND;TZID=Europe/Berlin:20240501T170000
DTSTAMP:20260424T154803
CREATED:20240121T120713Z
LAST-MODIFIED:20240121T120715Z
UID:17725-1714557600-1714582800@www.rainer-gerhards.de
SUMMARY:NABU Seefest
DESCRIPTION:Das Traditionelle Fest des NABU am Großrinderfelder See. \n\n\n\nBeim NABU Seefest. (Archivbild: Rainer Gerhards)
URL:https://www.rainer-gerhards.de/veranstaltung/nabu-seefest-2/
LOCATION:Seehütte Großrinderfeld\, Großrinderfeld\, Baden-Württemberg\, 97950\, Deutschland
ATTACH;FMTTYPE=image/jpeg:https://www.rainer-gerhards.de/files/2019/05/2019-05-01-NABU-Seefest-Großrinderfeld-P1010967-2x1.jpg
ORGANIZER;CN="NABU Gro%C3%9Frinderfeld":MAILTO:info@nabu-grossrinderfeld.de
END:VEVENT
BEGIN:VEVENT
DTSTART;TZID=Europe/Berlin:20240514T190000
DTEND;TZID=Europe/Berlin:20240514T213000
DTSTAMP:20260424T154803
CREATED:20240404T110244Z
LAST-MODIFIED:20240404T110531Z
UID:18349-1715713200-1715722200@www.rainer-gerhards.de
SUMMARY:Photovoltaik und Stromspeicher
DESCRIPTION:Welche Vorteile hat MADE IN GERMANY \n\n\n\nErfahren Sie kostenfrei in zwei interessanten Impulsvorträgen wie Ihr ganz persönliches Energiekonzept für die nächsten Jahren aussehen könnte. \n\n\n\nProgramm: \n\n\n\n\nGrußwort des Bürgermeisters Johannes Leibold\n\n\n\nFlorian Herfs\, Solarexperte von e3dc\, dem deutschen Marktführer bei Not- und Ersatzstromversorgung mit seinem Vortrag: „Solarstrom produzieren und im eigenen Hauskraftwerk speichern“!\n\n\n\nRainer Gerhards\, Geschäftsführer Adiscon GmbH\, Gemeinderat\, Informatiker und Freund harter Fakten mit seinem Vortrag: „Gute Photovoltaikanlagen in miesen Lagen – und was Geopolitik mit Ihrem Stromspeicher zu tun hat“!\n\n\n\n\nBeim gemeinsamen Get-Together\, Snacks und Getränken stehen Ihnen unsere Experten für Fragen zur Verfügung. \n\n\n\nEintritt: KOSTENFREI! Nach vorheriger verbindlicher Anmeldung. \n\n\n\nAnmeldung: Bitte an info@wenzgmbh\, oder 09349 – 92030.
URL:https://www.rainer-gerhards.de/veranstaltung/photovoltaik-und-stromspeicher/
LOCATION:Feuerwehrhaus Großrinderfeld\, An den Kirchäckern\, Großrinderfeld\, BaWü\, 97950\, Deutschland
ORGANIZER;CN="Wenz Geb%C3%A4udetechnik":MAILTO:info@wenzgmbh.de
END:VEVENT
END:VCALENDAR