BEGIN:VCALENDAR
VERSION:2.0
PRODID:-//rainer-gerhards.de - ECPv6.15.12.2//NONSGML v1.0//EN
CALSCALE:GREGORIAN
METHOD:PUBLISH
X-ORIGINAL-URL:https://www.rainer-gerhards.de
X-WR-CALDESC:Veranstaltungen für rainer-gerhards.de
REFRESH-INTERVAL;VALUE=DURATION:PT1H
X-Robots-Tag:noindex
X-PUBLISHED-TTL:PT1H
BEGIN:VTIMEZONE
TZID:Europe/Berlin
BEGIN:DAYLIGHT
TZOFFSETFROM:+0100
TZOFFSETTO:+0200
TZNAME:CEST
DTSTART:20230326T010000
END:DAYLIGHT
BEGIN:STANDARD
TZOFFSETFROM:+0200
TZOFFSETTO:+0100
TZNAME:CET
DTSTART:20231029T010000
END:STANDARD
BEGIN:DAYLIGHT
TZOFFSETFROM:+0100
TZOFFSETTO:+0200
TZNAME:CEST
DTSTART:20240331T010000
END:DAYLIGHT
BEGIN:STANDARD
TZOFFSETFROM:+0200
TZOFFSETTO:+0100
TZNAME:CET
DTSTART:20241027T010000
END:STANDARD
BEGIN:DAYLIGHT
TZOFFSETFROM:+0100
TZOFFSETTO:+0200
TZNAME:CEST
DTSTART:20250330T010000
END:DAYLIGHT
BEGIN:STANDARD
TZOFFSETFROM:+0200
TZOFFSETTO:+0100
TZNAME:CET
DTSTART:20251026T010000
END:STANDARD
END:VTIMEZONE
BEGIN:VEVENT
DTSTART;TZID=Europe/Berlin:20240302T090000
DTEND;TZID=Europe/Berlin:20240302T120000
DTSTAMP:20260424T142725
CREATED:20240216T163319Z
LAST-MODIFIED:20240216T163605Z
UID:17963-1709370000-1709380800@www.rainer-gerhards.de
SUMMARY:Schnittgutannahme des OGV Gerchsheim
DESCRIPTION:Es findet erneut für alle Bürger aus der Gemeinde Großrinderfeld die Schnittgutannahme des OGV am Festplatz in Gerchsheim statt. \n\n\n\nAngenommen wird Baum- und Heckenschnitt (auch mit Blättern). \n\n\n\nBitte unbedingt beachten: \n\n\n\n\nTHUJA WIRD AUF KEINEN FALL ANGENOMMEN – dies müssen wir notfalls heraussammeln lassen – BITTE BRINGT DAS ERST GARNICHT MIT\n\n\n\nBaumwurzeln\, Gartenabfälle\, Grasschnitt und loses Laub werden NICHT angenommen. Diese Bioabfälle müssen entweder über die braune Tonne oder in der Kompostierungsanlage Tauberbischofsheim entsorgt werden.\n\n\n\nDas Abkehren der Anhänger und Ladeflächen ist untersagt. Werft das daheim in den Biomüll.\n\n\n\nDas Schnittgut darf nur während der oben genannten Zeiten abgeliefert werden. Das Ablegen außerhalb der Zeiten ist verboten.\n\n\n\nEbenfalls bitten wir\, den Anweisungen der freiwilligen Helfer vor Ort Folge zu leisten\, um einen reibungslosen Ablauf sicherzustellen.\n\n\n\n\nAuch in diesem Jahr versuchen wir vom OGV Gerchsheim eine kostenlose Entsorgung zu organisieren. Für Auslagen\, die im Zusammenhang mit der Häckselgutannahme stehen\, erbitten wir Spendenbeiträge\, die in der aufgestellten Sammelbox eingeworfen werden können.
URL:https://www.rainer-gerhards.de/veranstaltung/schnittgutannahme-des-ogv-gerchsheim/
LOCATION:Gerchsheim Festplatz\, Gerchsheim\, BaWü\, 97950\, Deutschland
CATEGORIES:Gemeinschaft
END:VEVENT
BEGIN:VEVENT
DTSTART;TZID=Europe/Berlin:20240309T090000
DTEND;TZID=Europe/Berlin:20240309T120000
DTSTAMP:20260424T142725
CREATED:20240216T163625Z
LAST-MODIFIED:20240216T163701Z
UID:17969-1709974800-1709985600@www.rainer-gerhards.de
SUMMARY:Schnittgutannahme des OGV Gerchsheim
DESCRIPTION:Es findet erneut für alle Bürger aus der Gemeinde Großrinderfeld die Schnittgutannahme des OGV am Festplatz in Gerchsheim statt. \n\n\n\nAngenommen wird Baum- und Heckenschnitt (auch mit Blättern). \n\n\n\nBitte unbedingt beachten: \n\n\n\n\nTHUJA WIRD AUF KEINEN FALL ANGENOMMEN – dies müssen wir notfalls heraussammeln lassen – BITTE BRINGT DAS ERST GARNICHT MIT\n\n\n\nBaumwurzeln\, Gartenabfälle\, Grasschnitt und loses Laub werden NICHT angenommen. Diese Bioabfälle müssen entweder über die braune Tonne oder in der Kompostierungsanlage Tauberbischofsheim entsorgt werden.\n\n\n\nDas Abkehren der Anhänger und Ladeflächen ist untersagt. Werft das daheim in den Biomüll.\n\n\n\nDas Schnittgut darf nur während der oben genannten Zeiten abgeliefert werden. Das Ablegen außerhalb der Zeiten ist verboten.\n\n\n\nEbenfalls bitten wir\, den Anweisungen der freiwilligen Helfer vor Ort Folge zu leisten\, um einen reibungslosen Ablauf sicherzustellen.\n\n\n\n\nAuch in diesem Jahr versuchen wir vom OGV Gerchsheim eine kostenlose Entsorgung zu organisieren. Für Auslagen\, die im Zusammenhang mit der Häckselgutannahme stehen\, erbitten wir Spendenbeiträge\, die in der aufgestellten Sammelbox eingeworfen werden können.
URL:https://www.rainer-gerhards.de/veranstaltung/schnittgutannahme-des-ogv-gerchsheim-2/
LOCATION:Gerchsheim Festplatz\, Gerchsheim\, BaWü\, 97950\, Deutschland
CATEGORIES:Gemeinschaft
END:VEVENT
BEGIN:VEVENT
DTSTART;TZID=Europe/Berlin:20240313T190000
DTEND;TZID=Europe/Berlin:20240313T210000
DTSTAMP:20260424T142725
CREATED:20240220T171823Z
LAST-MODIFIED:20240220T171853Z
UID:17997-1710356400-1710363600@www.rainer-gerhards.de
SUMMARY:Gespräche am Kamin: Bitterstoffe und Mondzyklus
DESCRIPTION:„Im Gesundheits-Pavillon der Gräfin – Gespräche am Kamin“ \n\n\n\nDie Gemeindeverwaltung Großrinderfeld und Gräfin Wolffskeel\, Gerchsheim laden sehr herzlich ein zum nächsten Themenabend \n\n\n\n„Bitterstoffe – lebensnotwendig oder einnicht so gewünschter Geschmack?Das Leben mit dem Mondzyklus –wie kann sich das vereinen?“am Mittwoch\, 13. März 2024um 19 Uhr in die Turnhalle nach Gerchsheim \n\n\n\nWenn Bitterstoffe eines sind\, dann bitternötig! Längst ist bekannt\, dass Bitterstoffe trotz ihrer vielfältigen gesundheitlichen Vorzüge systematisch aus unseren Lebensmitteln herausgezüchtet wurden – mit den allseits bekannten Folgen\, wie Darmdysbiose oder dem Metabolischen Syndrom\, Herz-Kreislauf Erkrankungen\, erhöhte Blutfette u.v.m. \n\n\n\nIn jeder Mondphase soll der Mond einen anderen Einfluss auf den menschlichen Organismus ausüben. Aus diesem Grund leben viele Menschen nach dem Mondkalender. Der Kalender spiegelt den monatlichen Mondzyklus wieder und zeigt an\, in welcher Phase sich der Mond an den jeweiligen Tagen befindet. Hören wir mehr davon und lernen\, wie wir uns den Einfluss des Mondes zu Nutze machen können. \n\n\n\nNeugierig? Dann sehen wir uns am 13.03.2024 in der Turnhalle in Gerchsheim.IhreGräfin Wolffskeel
URL:https://www.rainer-gerhards.de/veranstaltung/gespraeche-am-kamin-bitterstoffe-und-mondzyklus/
LOCATION:Turnhalle Gerchsheim\, Großrinderfeld-Gerchsheim\, 97950\, Deutschland
CATEGORIES:Vortrag
END:VEVENT
BEGIN:VEVENT
DTSTART;TZID=Europe/Berlin:20240316T090000
DTEND;TZID=Europe/Berlin:20240316T120000
DTSTAMP:20260424T142725
CREATED:20240216T163835Z
LAST-MODIFIED:20240216T164042Z
UID:17971-1710579600-1710590400@www.rainer-gerhards.de
SUMMARY:Schnittgutannahme des OGV Gerchsheim
DESCRIPTION:Es findet erneut für alle Bürger aus der Gemeinde Großrinderfeld die Schnittgutannahme des OGV am Festplatz in Gerchsheim statt. \n\n\n\nAngenommen wird Baum- und Heckenschnitt (auch mit Blättern). \n\n\n\nBitte unbedingt beachten: \n\n\n\n\nTHUJA WIRD AUF KEINEN FALL ANGENOMMEN – dies müssen wir notfalls heraussammeln lassen – BITTE BRINGT DAS ERST GARNICHT MIT\n\n\n\nBaumwurzeln\, Gartenabfälle\, Grasschnitt und loses Laub werden NICHT angenommen. Diese Bioabfälle müssen entweder über die braune Tonne oder in der Kompostierungsanlage Tauberbischofsheim entsorgt werden.\n\n\n\nDas Abkehren der Anhänger und Ladeflächen ist untersagt. Werft das daheim in den Biomüll.\n\n\n\nDas Schnittgut darf nur während der oben genannten Zeiten abgeliefert werden. Das Ablegen außerhalb der Zeiten ist verboten.\n\n\n\nEbenfalls bitten wir\, den Anweisungen der freiwilligen Helfer vor Ort Folge zu leisten\, um einen reibungslosen Ablauf sicherzustellen.\n\n\n\n\nAuch in diesem Jahr versuchen wir vom OGV Gerchsheim eine kostenlose Entsorgung zu organisieren. Für Auslagen\, die im Zusammenhang mit der Häckselgutannahme stehen\, erbitten wir Spendenbeiträge\, die in der aufgestellten Sammelbox eingeworfen werden können.
URL:https://www.rainer-gerhards.de/veranstaltung/schnittgutannahme-des-ogv-gerchsheim-3/
LOCATION:Gerchsheim Festplatz\, Gerchsheim\, BaWü\, 97950\, Deutschland
CATEGORIES:Gemeinschaft
END:VEVENT
BEGIN:VEVENT
DTSTART;TZID=Europe/Berlin:20240319T183000
DTEND;TZID=Europe/Berlin:20240319T210000
DTSTAMP:20260424T142725
CREATED:20240205T162322Z
LAST-MODIFIED:20240205T162355Z
UID:17854-1710873000-1710882000@www.rainer-gerhards.de
SUMMARY:Vortrag: "Die Wärmepumpe - Ihr Weg zu einem zukunftsfähigen Heizkonzept"
DESCRIPTION:Ihr Weg zu einem zukunftsweisenden Heizkonzept! DIE WÄRMEPUMPE \n\n\n\nErfahren Sie kostenfrei in zwei interessanten Impulsvorträgen wie Ihr ganz persönliches Heizkonzept für die nächsten Jahren aussehen könnte. \n\n\n\nProgramm: \n\n\n\n\nGrußwort des Bürgermeisters Johannes Leibold\n\n\n\nLukas Strößner\, Wärmepumpenexperte von DAIKIN\, Europas Marktführer für Heizungs-\, Lüftungs- und Klimalösungen mit seinem Vortrag: „Funktionsweise und Vorteile der Wärmepumpe und die vielfältigen und attraktiven Fördermöglichkeiten“!\n\n\n\nRainer Gerhards\, Geschäftsführer Adiscon GmbH\, Gemeinderat\, Informatiker und Freund harter Fakten mit seinem Vortrag: „Von Wetter bis Kilowatt: Wie wir Kosten und Energie sparen können“!\n\n\n\n\nBeim gemeinsamen Get-Together\, Snacks und Getränken stehen Ihnen unsere Experten für Fragen zur Verfügung.
URL:https://www.rainer-gerhards.de/veranstaltung/vortrag-die-waermepumpe-ihr-weg-zu-einem-zukunftsfaehigen-heizkonzept/
LOCATION:Feuerwehrhaus Großrinderfeld\, An den Kirchäckern\, Großrinderfeld\, BaWü\, 97950\, Deutschland
ORGANIZER;CN="Wenz Geb%C3%A4udetechnik":MAILTO:info@wenzgmbh.de
END:VEVENT
BEGIN:VEVENT
DTSTART;TZID=Europe/Berlin:20240323T090000
DTEND;TZID=Europe/Berlin:20240323T120000
DTSTAMP:20260424T142725
CREATED:20240216T164000Z
LAST-MODIFIED:20240216T164002Z
UID:17973-1711184400-1711195200@www.rainer-gerhards.de
SUMMARY:Schnittgutannahme des OGV Gerchsheim
DESCRIPTION:Es findet erneut für alle Bürger aus der Gemeinde Großrinderfeld die Schnittgutannahme des OGV am Festplatz in Gerchsheim statt. \n\n\n\nAngenommen wird Baum- und Heckenschnitt (auch mit Blättern). \n\n\n\nBitte unbedingt beachten: \n\n\n\n\nTHUJA WIRD AUF KEINEN FALL ANGENOMMEN – dies müssen wir notfalls heraussammeln lassen – BITTE BRINGT DAS ERST GARNICHT MIT\n\n\n\nBaumwurzeln\, Gartenabfälle\, Grasschnitt und loses Laub werden NICHT angenommen. Diese Bioabfälle müssen entweder über die braune Tonne oder in der Kompostierungsanlage Tauberbischofsheim entsorgt werden.\n\n\n\nDas Abkehren der Anhänger und Ladeflächen ist untersagt. Werft das daheim in den Biomüll.\n\n\n\nDas Schnittgut darf nur während der oben genannten Zeiten abgeliefert werden. Das Ablegen außerhalb der Zeiten ist verboten.\n\n\n\nEbenfalls bitten wir\, den Anweisungen der freiwilligen Helfer vor Ort Folge zu leisten\, um einen reibungslosen Ablauf sicherzustellen.\n\n\n\n\nAuch in diesem Jahr versuchen wir vom OGV Gerchsheim eine kostenlose Entsorgung zu organisieren. Für Auslagen\, die im Zusammenhang mit der Häckselgutannahme stehen\, erbitten wir Spendenbeiträge\, die in der aufgestellten Sammelbox eingeworfen werden können.
URL:https://www.rainer-gerhards.de/veranstaltung/schnittgutannahme-des-ogv-gerchsheim-4/
LOCATION:Gerchsheim Festplatz\, Gerchsheim\, BaWü\, 97950\, Deutschland
CATEGORIES:Gemeinschaft
END:VEVENT
BEGIN:VEVENT
DTSTART;TZID=Europe/Berlin:20240324T083000
DTEND;TZID=Europe/Berlin:20240324T120000
DTSTAMP:20260424T142725
CREATED:20240316T074849Z
LAST-MODIFIED:20240323T103611Z
UID:18108-1711269000-1711281600@www.rainer-gerhards.de
SUMMARY:NABU Naturkundliche Wanderung
DESCRIPTION:Der NABU Großrinderfeld führt wieder seine beliebte naturkundliche Wanderung durch. \n\n\n\nDie Wanderung führt durch das Gebiet des Edelberg. Beobachtet werden Vögel und Pflanzen. \n\n\n\nTreffpunkt ist das Lagerhaus gegenüber der Tankstelle in Großrinderfeld. Dort können Fahrgemeinschaften gebildet werden. \n\n\n\nBei sehr schlechter Witterung wird die Wanderung verschoben.
URL:https://www.rainer-gerhards.de/veranstaltung/nabu-naturkundliche-wanderung/
LOCATION:Lagerhaus Großrindefeld\, Beunth 2\, Großrinderfeld\, 97950\, Deutschland
ORGANIZER;CN="NABU Gro%C3%9Frinderfeld":MAILTO:info@nabu-grossrinderfeld.de
END:VEVENT
END:VCALENDAR