BEGIN:VCALENDAR
VERSION:2.0
PRODID:-//rainer-gerhards.de - ECPv6.15.12.2//NONSGML v1.0//EN
CALSCALE:GREGORIAN
METHOD:PUBLISH
X-ORIGINAL-URL:https://www.rainer-gerhards.de
X-WR-CALDESC:Veranstaltungen für rainer-gerhards.de
REFRESH-INTERVAL;VALUE=DURATION:PT1H
X-Robots-Tag:noindex
X-PUBLISHED-TTL:PT1H
BEGIN:VTIMEZONE
TZID:Europe/Berlin
BEGIN:DAYLIGHT
TZOFFSETFROM:+0100
TZOFFSETTO:+0200
TZNAME:CEST
DTSTART:20220327T010000
END:DAYLIGHT
BEGIN:STANDARD
TZOFFSETFROM:+0200
TZOFFSETTO:+0100
TZNAME:CET
DTSTART:20221030T010000
END:STANDARD
BEGIN:DAYLIGHT
TZOFFSETFROM:+0100
TZOFFSETTO:+0200
TZNAME:CEST
DTSTART:20230326T010000
END:DAYLIGHT
BEGIN:STANDARD
TZOFFSETFROM:+0200
TZOFFSETTO:+0100
TZNAME:CET
DTSTART:20231029T010000
END:STANDARD
BEGIN:DAYLIGHT
TZOFFSETFROM:+0100
TZOFFSETTO:+0200
TZNAME:CEST
DTSTART:20240331T010000
END:DAYLIGHT
BEGIN:STANDARD
TZOFFSETFROM:+0200
TZOFFSETTO:+0100
TZNAME:CET
DTSTART:20241027T010000
END:STANDARD
END:VTIMEZONE
BEGIN:VEVENT
DTSTART;TZID=Europe/Berlin:20230617T100000
DTEND;TZID=Europe/Berlin:20230617T180000
DTSTAMP:20260424T020655
CREATED:20230427T162918Z
LAST-MODIFIED:20230615T135748Z
UID:15970-1686996000-1687024800@www.rainer-gerhards.de
SUMMARY:Info-Veranstaltung FriedWald Main-Tauber
DESCRIPTION:Besichtigung und Information des neu eröffnenten FriedWaldes Main-Tauber in Großrinderfeld. \n\n\n\nIm Rahmen dieser Eröffnung finden informative Waldführungen um 13:00 und 15:00 Uhr statt\, zu denen eine Anmeldung gewünscht wird unter Telefon 06155/848-100 oder über www.friedwald.de/main-tauber. Die Führung um 10:30 Uhr ist bereits ausgebucht\, bei Bedarf findet jedoch am Nachmittag eine zusätzliche Waldführung statt. Freie Plätze werden mit anwesenden Gästen belegt\, sodass auch Kurzentschlossene herzlichwillkommen sind. Unabhängig davon dürfen Sie natürlich den FriedWald einfach so besichtigen – die Teilnahme an einer Waldführung ist nicht zwingend erforderlich. \n\n\n\nNach dieser Eröffnung werden weitere Waldführungen (ebenfalls mit Anmeldung) ab dem 24. Juni alle 14 Tage samstags um 14:00 angeboten. \n\n\n\nDie Parkplätze am FriedWald sind begrenzt\, weshalb ein Shuttle-Service ab 10 Uhr vom Festplatz (TuS Großrinderfeld) zum Gelände zur Verfügung steht. Vielen Dank für diesen Fahrdienst an den TSV Gerchsheim und dem SV Schönfeld. \n\n\n\nWeiter danken wir dem Kinderförderverein Großrinderfeld für die Unterstützung\, der Kaffee\, Kuchen\, Getränke und kleine Snacks anbietet. \n\n\n\nAufgrund der Trockenheit besteht erhöhte Brandgefahr\, daher gilt auf dem gesamten Gelände Rauchverbot. Trotzdem ist unsere Freiwillige Feuerwehr vor Ort und über nimmt den Brandschutz. Auch hier ein herzlicher Dank. \n\n\n\nWir freuen uns auf eine schöne Eröffnungsveranstaltungrund um unseren FriedWald Main-Tauber.
URL:https://www.rainer-gerhards.de/veranstaltung/info-veranstaltung-friedwald-main-tauber/
LOCATION:FriedWald Main-Tauber\, Großrinderfeld\, BW\, 97950\, Deutschland
ATTACH;FMTTYPE=image/jpeg:https://www.rainer-gerhards.de/files/2023/04/2023-04-27-Buschwindroeschen-im-Wald.jpg
END:VEVENT
END:VCALENDAR