BEGIN:VCALENDAR
VERSION:2.0
PRODID:-//rainer-gerhards.de - ECPv6.15.12.2//NONSGML v1.0//EN
CALSCALE:GREGORIAN
METHOD:PUBLISH
X-WR-CALNAME:rainer-gerhards.de
X-ORIGINAL-URL:https://www.rainer-gerhards.de
X-WR-CALDESC:Veranstaltungen für rainer-gerhards.de
REFRESH-INTERVAL;VALUE=DURATION:PT1H
X-Robots-Tag:noindex
X-PUBLISHED-TTL:PT1H
BEGIN:VTIMEZONE
TZID:Europe/Berlin
BEGIN:DAYLIGHT
TZOFFSETFROM:+0100
TZOFFSETTO:+0200
TZNAME:CEST
DTSTART:20190331T010000
END:DAYLIGHT
BEGIN:STANDARD
TZOFFSETFROM:+0200
TZOFFSETTO:+0100
TZNAME:CET
DTSTART:20191027T010000
END:STANDARD
BEGIN:DAYLIGHT
TZOFFSETFROM:+0100
TZOFFSETTO:+0200
TZNAME:CEST
DTSTART:20200329T010000
END:DAYLIGHT
BEGIN:STANDARD
TZOFFSETFROM:+0200
TZOFFSETTO:+0100
TZNAME:CET
DTSTART:20201025T010000
END:STANDARD
BEGIN:DAYLIGHT
TZOFFSETFROM:+0100
TZOFFSETTO:+0200
TZNAME:CEST
DTSTART:20210328T010000
END:DAYLIGHT
BEGIN:STANDARD
TZOFFSETFROM:+0200
TZOFFSETTO:+0100
TZNAME:CET
DTSTART:20211031T010000
END:STANDARD
END:VTIMEZONE
BEGIN:VEVENT
DTSTART;TZID=Europe/Berlin:20200915T190000
DTEND;TZID=Europe/Berlin:20200915T213000
DTSTAMP:20260423T195619
CREATED:20200911T124342Z
LAST-MODIFIED:20200911T124400Z
UID:7999-1600196400-1600205400@www.rainer-gerhards.de
SUMMARY:Gemeinderatssitzung
DESCRIPTION:Öffentliche Gemeinderatssitzung in Turnhalle Gerchsheim.
URL:https://www.rainer-gerhards.de/veranstaltung/gemeinderatssitzung-7/
LOCATION:Turnhalle Gerchsheim\, Großrinderfeld-Gerchsheim\, 97950\, Deutschland
CATEGORIES:Gemeinderat
ATTACH;FMTTYPE=image/jpeg:https://www.rainer-gerhards.de/files/2020/05/2020-05-12-Sitzung-Gemeinderat-IMAG9698-FB.jpg
END:VEVENT
BEGIN:VEVENT
DTSTART;TZID=Europe/Berlin:20200918T140000
DTEND;TZID=Europe/Berlin:20200918T170000
DTSTAMP:20260423T195619
CREATED:20200911T131616Z
LAST-MODIFIED:20200911T131643Z
UID:8008-1600437600-1600448400@www.rainer-gerhards.de
SUMMARY:Tag des Wanderns 2020
DESCRIPTION:In Großrinderfeld wird eine Wanderung zum Tag des Wanderns angeboten. Details entnehmen Sie bitte der angegebenen Webseite.
URL:https://www.rainer-gerhards.de/veranstaltung/tag-des-wanderns-2020/
LOCATION:Rathaus Großrinderfeld\, Marktplatz 6\, Großrinderfeld\, Baden-Württemberg\, 97950\, Deutschland
END:VEVENT
BEGIN:VEVENT
DTSTART;TZID=Europe/Berlin:20200924T190000
DTEND;TZID=Europe/Berlin:20200924T203000
DTSTAMP:20260423T195619
CREATED:20200911T125424Z
LAST-MODIFIED:20200911T125441Z
UID:8003-1600974000-1600979400@www.rainer-gerhards.de
SUMMARY:Treffen "Unser Dorf hat Zukunft"
DESCRIPTION:Projekttreffen mit Information und Diskussion (weitere Infos folgen)
URL:https://www.rainer-gerhards.de/veranstaltung/treffen-unser-dorf-hat-zukunft/
LOCATION:Online
ATTACH;FMTTYPE=image/jpeg:https://www.rainer-gerhards.de/files/2020/08/2020-logo-dorf-hat-zukunft.jpg
ORGANIZER;CN="Team Dorfwettbewerb":MAILTO:rgerhards@adiscon.com
END:VEVENT
END:VCALENDAR