BEGIN:VCALENDAR
VERSION:2.0
PRODID:-//rainer-gerhards.de - ECPv6.15.12.2//NONSGML v1.0//EN
CALSCALE:GREGORIAN
METHOD:PUBLISH
X-ORIGINAL-URL:https://www.rainer-gerhards.de
X-WR-CALDESC:Veranstaltungen für rainer-gerhards.de
REFRESH-INTERVAL;VALUE=DURATION:PT1H
X-Robots-Tag:noindex
X-PUBLISHED-TTL:PT1H
BEGIN:VTIMEZONE
TZID:Europe/Berlin
BEGIN:DAYLIGHT
TZOFFSETFROM:+0100
TZOFFSETTO:+0200
TZNAME:CEST
DTSTART:20190331T010000
END:DAYLIGHT
BEGIN:STANDARD
TZOFFSETFROM:+0200
TZOFFSETTO:+0100
TZNAME:CET
DTSTART:20191027T010000
END:STANDARD
BEGIN:DAYLIGHT
TZOFFSETFROM:+0100
TZOFFSETTO:+0200
TZNAME:CEST
DTSTART:20200329T010000
END:DAYLIGHT
BEGIN:STANDARD
TZOFFSETFROM:+0200
TZOFFSETTO:+0100
TZNAME:CET
DTSTART:20201025T010000
END:STANDARD
BEGIN:DAYLIGHT
TZOFFSETFROM:+0100
TZOFFSETTO:+0200
TZNAME:CEST
DTSTART:20210328T010000
END:DAYLIGHT
BEGIN:STANDARD
TZOFFSETFROM:+0200
TZOFFSETTO:+0100
TZNAME:CET
DTSTART:20211031T010000
END:STANDARD
END:VTIMEZONE
BEGIN:VEVENT
DTSTART;TZID=Europe/Berlin:20200512T190000
DTEND;TZID=Europe/Berlin:20200512T210000
DTSTAMP:20260423T131708
CREATED:20200504T081635Z
LAST-MODIFIED:20200504T134323Z
UID:6746-1589310000-1589317200@www.rainer-gerhards.de
SUMMARY:Gemeinderatssitzung
DESCRIPTION:Öffentliche Sitzung des Gemeinderats Großrinderfeld. Aufgrund der Corona-Lage ist eine kurzfristige Verschiebung oder Absage möglich. \nWichtig: die Hygienevorschriften werden eingehalten\, auch zwischen den Zuschauerplätzen wird genügend Abstand eingehalten. \nDie Tagesordnung findet sich auf der Homepage der Gemeinde. Unter anderem geht es um die Anschaffung von Software für Homeoffice sowie die Kindergarten-Bedarfsplanung und damit auch die mögliche Schließung des Kindergartens in Ilmspan.
URL:https://www.rainer-gerhards.de/veranstaltung/gemeinderatssitzung-6/
LOCATION:Turnhalle Gerchsheim\, Großrinderfeld-Gerchsheim\, 97950\, Deutschland
CATEGORIES:Gemeinderat
ATTACH;FMTTYPE=image/jpeg:https://www.rainer-gerhards.de/files/2020/03/2020-03-17-Ratssitzung-Grossrinderfeld-Turnhalle-IMAG9414-FB.jpg
END:VEVENT
BEGIN:VEVENT
DTSTART;TZID=Europe/Berlin:20200522T170000
DTEND;TZID=Europe/Berlin:20200522T200000
DTSTAMP:20260423T131708
CREATED:20200520T132123Z
LAST-MODIFIED:20200520T151955Z
UID:6942-1590166800-1590177600@www.rainer-gerhards.de
SUMMARY:Info Elternbefragung Kindertagsstätten
DESCRIPTION:Für Details siehe: https://coronavirus.grossrinderfeld.com/2020/05/19/info-veranstaltung-befragung-kinderbetreuung/
URL:https://www.rainer-gerhards.de/veranstaltung/info-elternbefragung-kindertagsstaetten/
LOCATION:Online
ATTACH;FMTTYPE=image/jpeg:https://www.rainer-gerhards.de/files/2019/04/Grossrinderfeld-Rathaus.jpg
END:VEVENT
BEGIN:VEVENT
DTSTART;TZID=Europe/Berlin:20200531T100000
DTEND;TZID=Europe/Berlin:20200531T120000
DTSTAMP:20260423T131708
CREATED:20200530T111141Z
LAST-MODIFIED:20200530T111825Z
UID:7016-1590919200-1590926400@www.rainer-gerhards.de
SUMMARY:Live-Stream Pfingstgottesdienst aus Großrinderfeld
DESCRIPTION:Zusätzlich zur (ausgebuchten) Kirche wird der Pfingstgottesdienst auch gestreamt – insbesondere auch ein Angebot für Personen aus Risikogruppen. \nWeitere Details hier auf der Seite oder direkt bei der Seelsorgeeinheit Großrinderfeld/Werbach. \nDer Stream startet um 9:45\, der Gottesdienst beginnt um 10:00.
URL:https://www.rainer-gerhards.de/veranstaltung/live-stream-pfingstgottesdienst-aus-grossrinderfeld/
LOCATION:Online
ATTACH;FMTTYPE=image/jpeg:https://www.rainer-gerhards.de/files/2020/04/Kirchen-Gerchsheim-Großrinderfeld-FB.jpg
END:VEVENT
END:VCALENDAR