BEGIN:VCALENDAR
VERSION:2.0
PRODID:-//rainer-gerhards.de - ECPv6.15.12.2//NONSGML v1.0//EN
CALSCALE:GREGORIAN
METHOD:PUBLISH
X-ORIGINAL-URL:https://www.rainer-gerhards.de
X-WR-CALDESC:Veranstaltungen für rainer-gerhards.de
REFRESH-INTERVAL;VALUE=DURATION:PT1H
X-Robots-Tag:noindex
X-PUBLISHED-TTL:PT1H
BEGIN:VTIMEZONE
TZID:Europe/Berlin
BEGIN:DAYLIGHT
TZOFFSETFROM:+0100
TZOFFSETTO:+0200
TZNAME:CEST
DTSTART:20190331T010000
END:DAYLIGHT
BEGIN:STANDARD
TZOFFSETFROM:+0200
TZOFFSETTO:+0100
TZNAME:CET
DTSTART:20191027T010000
END:STANDARD
BEGIN:DAYLIGHT
TZOFFSETFROM:+0100
TZOFFSETTO:+0200
TZNAME:CEST
DTSTART:20200329T010000
END:DAYLIGHT
BEGIN:STANDARD
TZOFFSETFROM:+0200
TZOFFSETTO:+0100
TZNAME:CET
DTSTART:20201025T010000
END:STANDARD
BEGIN:DAYLIGHT
TZOFFSETFROM:+0100
TZOFFSETTO:+0200
TZNAME:CEST
DTSTART:20210328T010000
END:DAYLIGHT
BEGIN:STANDARD
TZOFFSETFROM:+0200
TZOFFSETTO:+0100
TZNAME:CET
DTSTART:20211031T010000
END:STANDARD
END:VTIMEZONE
BEGIN:VEVENT
DTSTART;TZID=Europe/Berlin:20200303T200000
DTEND;TZID=Europe/Berlin:20200303T223000
DTSTAMP:20260423T103048
CREATED:20200205T091553Z
LAST-MODIFIED:20200213T213846Z
UID:4289-1583265600-1583274600@www.rainer-gerhards.de
SUMMARY:NABU Monatstreffen
DESCRIPTION:Die NABU Gruppe Großrinderfeld trifft sich jeden ersten Dienstag im Monat im Vereinsheim am Großrinderfelder See. Es werden Themen aus Naturschutz und Vereinsleben besprochen.
URL:https://www.rainer-gerhards.de/veranstaltung/nabu-monatstreffen-2/
LOCATION:Seehütte Großrinderfeld\, Großrinderfeld\, Baden-Württemberg\, 97950\, Deutschland
CATEGORIES:NABU
ATTACH;FMTTYPE=image/jpeg:https://www.rainer-gerhards.de/files/2020/01/NABU-GRF-ev.jpg
ORGANIZER;CN="NABU Gro%C3%9Frinderfeld":MAILTO:info@nabu-grossrinderfeld.de
END:VEVENT
BEGIN:VEVENT
DTSTART;TZID=Europe/Berlin:20200306T193000
DTEND;TZID=Europe/Berlin:20200306T213000
DTSTAMP:20260423T103048
CREATED:20200127T174018Z
LAST-MODIFIED:20200202T153413Z
UID:4096-1583523000-1583530200@www.rainer-gerhards.de
SUMMARY:Bildstöcke in Franken - Glaubensspuren in einer Kulturlandschaft
DESCRIPTION:Ein Vortragsabend mit Prof. Flachenecker\, ausgerichtet vom Heimat- und Kulturverein Großrinderfeld.
URL:https://www.rainer-gerhards.de/veranstaltung/vortrag-die-steinkreuze-in-der-region/
LOCATION:Gemeindezentrum Gerchsheim\, Altertheimer Weg 10\, Großrinderfeld\, Baden-Württemberg\, 97950\, Deutschland
ATTACH;FMTTYPE=image/jpeg:https://www.rainer-gerhards.de/files/2019/04/Bildstock-Grossrinderfeld-2018-04.jpg
END:VEVENT
BEGIN:VEVENT
DTSTART;TZID=Europe/Berlin:20200311T190000
DTEND;TZID=Europe/Berlin:20200311T213000
DTSTAMP:20260423T103048
CREATED:20200212T170145Z
LAST-MODIFIED:20200217T173232Z
UID:4410-1583953200-1583962200@www.rainer-gerhards.de
SUMMARY:Mitgliederversammlung Gewerbeverein
DESCRIPTION:Die GewerbeVerein Großrinderfeld lädt zur Mitgliederversammlung ein. Dabei sind auch Nicht-Mitglieder herzlich willkommen. \nHighlight ist eine Diskussionsrunde mit dem Großrinderfelder Bürgermeister Johannes Leibold. Er diskutiert mit allen Unternehmern und Selbständigen gerne über deren Anregungen und wie man gemeinsam die Gemeinde und ihre Betriebe voran bringen kann.
URL:https://www.rainer-gerhards.de/veranstaltung/mitgliederversammlung-gewerbeverein/
LOCATION:Gasthaus zum Hofjäger\, Dorfstraße 15\, Großrinderfeld\, Baden-Württemberg\, 97950\, Deutschland
ATTACH;FMTTYPE=image/png:https://www.rainer-gerhards.de/files/2020/02/logo-gewerbeverein-FB.png
END:VEVENT
BEGIN:VEVENT
DTSTART;TZID=Europe/Berlin:20200317T190000
DTEND;TZID=Europe/Berlin:20200317T213000
DTSTAMP:20260423T103048
CREATED:20200223T164606Z
LAST-MODIFIED:20200223T165014Z
UID:4576-1584471600-1584480600@www.rainer-gerhards.de
SUMMARY:Gemeinderatssitzung
DESCRIPTION:Öffentliche Sitzung des Gemeinderat Großrinderfeld. Details werden noch bekannt gegeben.
URL:https://www.rainer-gerhards.de/veranstaltung/gemeinderatssitzung-3/
LOCATION:Rathaus Großrinderfeld\, Marktplatz 6\, Großrinderfeld\, Baden-Württemberg\, 97950\, Deutschland
CATEGORIES:Gemeinderat
ATTACH;FMTTYPE=image/jpeg:https://www.rainer-gerhards.de/files/2019/07/Gemeinderat.jpg
END:VEVENT
BEGIN:VEVENT
DTSTART;TZID=Europe/Berlin:20200331T190000
DTEND;TZID=Europe/Berlin:20200331T213000
DTSTAMP:20260423T103048
CREATED:20200223T164742Z
LAST-MODIFIED:20200223T165317Z
UID:4580-1585681200-1585690200@www.rainer-gerhards.de
SUMMARY:Gemeinderatssitzung
DESCRIPTION:Voraussichtlich öffentliche Sitzung des Gemeinderat Großrinderfeld. Details werden noch bekannt gegeben.
URL:https://www.rainer-gerhards.de/veranstaltung/gemeinderatssitzung-4/
LOCATION:Rathaus Großrinderfeld\, Marktplatz 6\, Großrinderfeld\, Baden-Württemberg\, 97950\, Deutschland
CATEGORIES:Gemeinderat
ATTACH;FMTTYPE=image/jpeg:https://www.rainer-gerhards.de/files/2019/07/Gemeinderat.jpg
END:VEVENT
END:VCALENDAR