BEGIN:VCALENDAR
VERSION:2.0
PRODID:-//rainer-gerhards.de - ECPv6.15.12.2//NONSGML v1.0//EN
CALSCALE:GREGORIAN
METHOD:PUBLISH
X-WR-CALNAME:rainer-gerhards.de
X-ORIGINAL-URL:https://www.rainer-gerhards.de
X-WR-CALDESC:Veranstaltungen für rainer-gerhards.de
REFRESH-INTERVAL;VALUE=DURATION:PT1H
X-Robots-Tag:noindex
X-PUBLISHED-TTL:PT1H
BEGIN:VTIMEZONE
TZID:Europe/Berlin
BEGIN:DAYLIGHT
TZOFFSETFROM:+0100
TZOFFSETTO:+0200
TZNAME:CEST
DTSTART:20230326T010000
END:DAYLIGHT
BEGIN:STANDARD
TZOFFSETFROM:+0200
TZOFFSETTO:+0100
TZNAME:CET
DTSTART:20231029T010000
END:STANDARD
BEGIN:DAYLIGHT
TZOFFSETFROM:+0100
TZOFFSETTO:+0200
TZNAME:CEST
DTSTART:20240331T010000
END:DAYLIGHT
BEGIN:STANDARD
TZOFFSETFROM:+0200
TZOFFSETTO:+0100
TZNAME:CET
DTSTART:20241027T010000
END:STANDARD
BEGIN:DAYLIGHT
TZOFFSETFROM:+0100
TZOFFSETTO:+0200
TZNAME:CEST
DTSTART:20250330T010000
END:DAYLIGHT
BEGIN:STANDARD
TZOFFSETFROM:+0200
TZOFFSETTO:+0100
TZNAME:CET
DTSTART:20251026T010000
END:STANDARD
END:VTIMEZONE
BEGIN:VEVENT
DTSTART;TZID=Europe/Berlin:20240919T150000
DTEND;TZID=Europe/Berlin:20240919T190000
DTSTAMP:20260424T232056
CREATED:20240913T140410Z
LAST-MODIFIED:20240913T140412Z
UID:19588-1726758000-1726772400@www.rainer-gerhards.de
SUMMARY:SuedLink: Bau-Infomarkt Großrinderfeld
DESCRIPTION:Informieren Sie sich über den anstehenden Bau von SuedLink in Großrinderfeld. Hier haben Sie die Möglichkeit\, sich direkt mit Mitarbeitenden von Transnet BW zu unterhalten und ihre Fragen zu klären. \n\n\n\nDie Veranstaltung ist sicherlich interessant für betroffene Landwirte. Aber auch für alle Anderen bietet sie die Möglichkeit\, sich über die Bauphasen und mögliche Beeinträchtigungen zu informieren. Wissen Sie\, wo genau in Großrinderfeld gebaut wird? Nein? Hier erfahren Sie es! \n\n\n\nAlso: informieren Sie sich aus erster Hand! \n\n\n\nWichtig: Es gibt kein festes Programm sondern Info-Stände an denen Sie sich individuell beraten lassen können. Sie können also nach belieben zwischen 14 und 19 Uhr kommen und gehen!
URL:https://www.rainer-gerhards.de/veranstaltung/suedlink-bau-infomarkt-grossrinderfeld/
LOCATION:Turnhalle Großrinderfeld\, Frankenstraße 11\, Großrinderfeld\, Baden-Württemberg\, 97950\, Deutschland
END:VEVENT
END:VCALENDAR