BEGIN:VCALENDAR
VERSION:2.0
PRODID:-//rainer-gerhards.de - ECPv6.15.12.2//NONSGML v1.0//EN
CALSCALE:GREGORIAN
METHOD:PUBLISH
X-ORIGINAL-URL:https://www.rainer-gerhards.de
X-WR-CALDESC:Veranstaltungen für rainer-gerhards.de
REFRESH-INTERVAL;VALUE=DURATION:PT1H
X-Robots-Tag:noindex
X-PUBLISHED-TTL:PT1H
BEGIN:VTIMEZONE
TZID:Europe/Berlin
BEGIN:DAYLIGHT
TZOFFSETFROM:+0100
TZOFFSETTO:+0200
TZNAME:CEST
DTSTART:20230326T010000
END:DAYLIGHT
BEGIN:STANDARD
TZOFFSETFROM:+0200
TZOFFSETTO:+0100
TZNAME:CET
DTSTART:20231029T010000
END:STANDARD
BEGIN:DAYLIGHT
TZOFFSETFROM:+0100
TZOFFSETTO:+0200
TZNAME:CEST
DTSTART:20240331T010000
END:DAYLIGHT
BEGIN:STANDARD
TZOFFSETFROM:+0200
TZOFFSETTO:+0100
TZNAME:CET
DTSTART:20241027T010000
END:STANDARD
BEGIN:DAYLIGHT
TZOFFSETFROM:+0100
TZOFFSETTO:+0200
TZNAME:CEST
DTSTART:20250330T010000
END:DAYLIGHT
BEGIN:STANDARD
TZOFFSETFROM:+0200
TZOFFSETTO:+0100
TZNAME:CET
DTSTART:20251026T010000
END:STANDARD
END:VTIMEZONE
BEGIN:VEVENT
DTSTART;TZID=Europe/Berlin:20240410T190000
DTEND;TZID=Europe/Berlin:20240410T210000
DTSTAMP:20260424T154635
CREATED:20240325T121036Z
LAST-MODIFIED:20240325T121202Z
UID:18195-1712775600-1712782800@www.rainer-gerhards.de
SUMMARY:Info-Veranstaltung zu Heizungsgesetz\, Energie\, EMobilität und vielem mehr...
DESCRIPTION:Bei Stichworten wie Heizungsgesetz\, Energiewende\, Ausbau der Stromnetze\, erneuerbare Energien\, Mobilitätswende mit Elektroautos\, Versorgungssicherheit … da kann es einem ganz schön im Kopf schwirren. Mit einer ganz besonderen Veranstaltung möchten wir\, das sind Rainer Gerhards und Hubert Kraus\, ein wenig Licht ins Dunkel bringen. Das ganze Läuft unter dem Titel „Steigende Energiepreise\, unzuverlässige Politik\, komisches Wetter – Wie kann ich mich darauf einstellen?„ \n\n\n\nDie Veranstaltung richtet sich ganz nach Ihren Fragen zu diesem Themenkomplex!
URL:https://www.rainer-gerhards.de/veranstaltung/info-veranstaltung-zu-heizungsgesetz-energiepreise-usw/
LOCATION:Bürger- und Vereinsheim Ilmspan\, Mozartstr.\, 21\, Großrinderfeld-Ilmspan\, BW\, 97950\, Deutschland
ATTACH;FMTTYPE=image/jpeg:https://www.rainer-gerhards.de/files/2022/08/IMAG5433.jpg
END:VEVENT
END:VCALENDAR