BEGIN:VCALENDAR
VERSION:2.0
PRODID:-//rainer-gerhards.de - ECPv6.15.12.2//NONSGML v1.0//EN
CALSCALE:GREGORIAN
METHOD:PUBLISH
X-ORIGINAL-URL:https://www.rainer-gerhards.de
X-WR-CALDESC:Veranstaltungen für rainer-gerhards.de
REFRESH-INTERVAL;VALUE=DURATION:PT1H
X-Robots-Tag:noindex
X-PUBLISHED-TTL:PT1H
BEGIN:VTIMEZONE
TZID:Europe/Berlin
BEGIN:DAYLIGHT
TZOFFSETFROM:+0100
TZOFFSETTO:+0200
TZNAME:CEST
DTSTART:20230326T010000
END:DAYLIGHT
BEGIN:STANDARD
TZOFFSETFROM:+0200
TZOFFSETTO:+0100
TZNAME:CET
DTSTART:20231029T010000
END:STANDARD
BEGIN:DAYLIGHT
TZOFFSETFROM:+0100
TZOFFSETTO:+0200
TZNAME:CEST
DTSTART:20240331T010000
END:DAYLIGHT
BEGIN:STANDARD
TZOFFSETFROM:+0200
TZOFFSETTO:+0100
TZNAME:CET
DTSTART:20241027T010000
END:STANDARD
BEGIN:DAYLIGHT
TZOFFSETFROM:+0100
TZOFFSETTO:+0200
TZNAME:CEST
DTSTART:20250330T010000
END:DAYLIGHT
BEGIN:STANDARD
TZOFFSETFROM:+0200
TZOFFSETTO:+0100
TZNAME:CET
DTSTART:20251026T010000
END:STANDARD
END:VTIMEZONE
BEGIN:VEVENT
DTSTART;TZID=Europe/Berlin:20240401T083000
DTEND;TZID=Europe/Berlin:20240401T120000
DTSTAMP:20260424T154636
CREATED:20240328T113053Z
LAST-MODIFIED:20240328T113149Z
UID:18219-1711960200-1711972800@www.rainer-gerhards.de
SUMMARY:NABU Naturkundliche Wanderung
DESCRIPTION:Der NABU Großrinderfeld führt wieder seine beliebte naturkundliche Wanderung durch. \n\n\n\nDie Wanderung führt durch das Gebiet des Edelberg. Beobachtet werden Vögel und Pflanzen. \n\n\n\nTreffpunkt ist das Lagerhaus gegenüber der Tankstelle in Großrinderfeld. Dort können Fahrgemeinschaften gebildet werden. \n\n\n\nBei sehr schlechter Witterung wird die Wanderung verschoben. Ansage unter Telefonnummer 09349/9294594 dazu\, ob die Veranstaltung stattfindet. Oder NABU-Homepage besuchen!
URL:https://www.rainer-gerhards.de/veranstaltung/nabu-naturkundliche-wanderung-2/
LOCATION:Lagerhaus Großrindefeld\, Beunth 2\, Großrinderfeld\, 97950\, Deutschland
ATTACH;FMTTYPE=image/jpeg:https://www.rainer-gerhards.de/files/2024/03/2023-05-01-NABU-Wanderung.jpg
ORGANIZER;CN="NABU Gro%C3%9Frinderfeld":MAILTO:info@nabu-grossrinderfeld.de
END:VEVENT
END:VCALENDAR