BEGIN:VCALENDAR
VERSION:2.0
PRODID:-//rainer-gerhards.de - ECPv6.15.12.2//NONSGML v1.0//EN
CALSCALE:GREGORIAN
METHOD:PUBLISH
X-ORIGINAL-URL:https://www.rainer-gerhards.de
X-WR-CALDESC:Veranstaltungen für rainer-gerhards.de
REFRESH-INTERVAL;VALUE=DURATION:PT1H
X-Robots-Tag:noindex
X-PUBLISHED-TTL:PT1H
BEGIN:VTIMEZONE
TZID:Europe/Berlin
BEGIN:DAYLIGHT
TZOFFSETFROM:+0100
TZOFFSETTO:+0200
TZNAME:CEST
DTSTART:20230326T010000
END:DAYLIGHT
BEGIN:STANDARD
TZOFFSETFROM:+0200
TZOFFSETTO:+0100
TZNAME:CET
DTSTART:20231029T010000
END:STANDARD
BEGIN:DAYLIGHT
TZOFFSETFROM:+0100
TZOFFSETTO:+0200
TZNAME:CEST
DTSTART:20240331T010000
END:DAYLIGHT
BEGIN:STANDARD
TZOFFSETFROM:+0200
TZOFFSETTO:+0100
TZNAME:CET
DTSTART:20241027T010000
END:STANDARD
BEGIN:DAYLIGHT
TZOFFSETFROM:+0100
TZOFFSETTO:+0200
TZNAME:CEST
DTSTART:20250330T010000
END:DAYLIGHT
BEGIN:STANDARD
TZOFFSETFROM:+0200
TZOFFSETTO:+0100
TZNAME:CET
DTSTART:20251026T010000
END:STANDARD
END:VTIMEZONE
BEGIN:VEVENT
DTSTART;TZID=Europe/Berlin:20240313T190000
DTEND;TZID=Europe/Berlin:20240313T210000
DTSTAMP:20260424T142639
CREATED:20240220T171823Z
LAST-MODIFIED:20240220T171853Z
UID:17997-1710356400-1710363600@www.rainer-gerhards.de
SUMMARY:Gespräche am Kamin: Bitterstoffe und Mondzyklus
DESCRIPTION:„Im Gesundheits-Pavillon der Gräfin – Gespräche am Kamin“ \n\n\n\nDie Gemeindeverwaltung Großrinderfeld und Gräfin Wolffskeel\, Gerchsheim laden sehr herzlich ein zum nächsten Themenabend \n\n\n\n„Bitterstoffe – lebensnotwendig oder einnicht so gewünschter Geschmack?Das Leben mit dem Mondzyklus –wie kann sich das vereinen?“am Mittwoch\, 13. März 2024um 19 Uhr in die Turnhalle nach Gerchsheim \n\n\n\nWenn Bitterstoffe eines sind\, dann bitternötig! Längst ist bekannt\, dass Bitterstoffe trotz ihrer vielfältigen gesundheitlichen Vorzüge systematisch aus unseren Lebensmitteln herausgezüchtet wurden – mit den allseits bekannten Folgen\, wie Darmdysbiose oder dem Metabolischen Syndrom\, Herz-Kreislauf Erkrankungen\, erhöhte Blutfette u.v.m. \n\n\n\nIn jeder Mondphase soll der Mond einen anderen Einfluss auf den menschlichen Organismus ausüben. Aus diesem Grund leben viele Menschen nach dem Mondkalender. Der Kalender spiegelt den monatlichen Mondzyklus wieder und zeigt an\, in welcher Phase sich der Mond an den jeweiligen Tagen befindet. Hören wir mehr davon und lernen\, wie wir uns den Einfluss des Mondes zu Nutze machen können. \n\n\n\nNeugierig? Dann sehen wir uns am 13.03.2024 in der Turnhalle in Gerchsheim.IhreGräfin Wolffskeel
URL:https://www.rainer-gerhards.de/veranstaltung/gespraeche-am-kamin-bitterstoffe-und-mondzyklus/
LOCATION:Turnhalle Gerchsheim\, Großrinderfeld-Gerchsheim\, 97950\, Deutschland
CATEGORIES:Vortrag
END:VEVENT
END:VCALENDAR