BEGIN:VCALENDAR
VERSION:2.0
PRODID:-//rainer-gerhards.de - ECPv6.15.12.2//NONSGML v1.0//EN
CALSCALE:GREGORIAN
METHOD:PUBLISH
X-WR-CALNAME:rainer-gerhards.de
X-ORIGINAL-URL:https://www.rainer-gerhards.de
X-WR-CALDESC:Veranstaltungen für rainer-gerhards.de
REFRESH-INTERVAL;VALUE=DURATION:PT1H
X-Robots-Tag:noindex
X-PUBLISHED-TTL:PT1H
BEGIN:VTIMEZONE
TZID:Europe/Berlin
BEGIN:DAYLIGHT
TZOFFSETFROM:+0100
TZOFFSETTO:+0200
TZNAME:CEST
DTSTART:20230326T010000
END:DAYLIGHT
BEGIN:STANDARD
TZOFFSETFROM:+0200
TZOFFSETTO:+0100
TZNAME:CET
DTSTART:20231029T010000
END:STANDARD
BEGIN:DAYLIGHT
TZOFFSETFROM:+0100
TZOFFSETTO:+0200
TZNAME:CEST
DTSTART:20240331T010000
END:DAYLIGHT
BEGIN:STANDARD
TZOFFSETFROM:+0200
TZOFFSETTO:+0100
TZNAME:CET
DTSTART:20241027T010000
END:STANDARD
BEGIN:DAYLIGHT
TZOFFSETFROM:+0100
TZOFFSETTO:+0200
TZNAME:CEST
DTSTART:20250330T010000
END:DAYLIGHT
BEGIN:STANDARD
TZOFFSETFROM:+0200
TZOFFSETTO:+0100
TZNAME:CET
DTSTART:20251026T010000
END:STANDARD
END:VTIMEZONE
BEGIN:VEVENT
DTSTART;TZID=Europe/Berlin:20240127T130000
DTEND;TZID=Europe/Berlin:20240127T180000
DTSTAMP:20260424T113350
CREATED:20240121T121809Z
LAST-MODIFIED:20240121T121943Z
UID:17731-1706360400-1706378400@www.rainer-gerhards.de
SUMMARY:2. Gerchsheimer Tagesfasching - Rot Weiß Ball
DESCRIPTION:Am Samstag 27.01.2024 findet der diesjährige Rot-Weiß-Ball als Tagesfasching in der Turnhalle statt.Beginn ist um 13:11. Halber Eintritt bis 15 Uhr. \n\n\n\nKein Einlass unter 16 Jahren – Ausweiskontrolle!
URL:https://www.rainer-gerhards.de/veranstaltung/2-gerchsheimer-tagesfasching-rot-weiss-ball/
LOCATION:Turnhalle Gerchsheim\, Großrinderfeld-Gerchsheim\, 97950\, Deutschland
END:VEVENT
END:VCALENDAR