BEGIN:VCALENDAR
VERSION:2.0
PRODID:-//rainer-gerhards.de - ECPv6.15.12.2//NONSGML v1.0//EN
CALSCALE:GREGORIAN
METHOD:PUBLISH
X-WR-CALNAME:rainer-gerhards.de
X-ORIGINAL-URL:https://www.rainer-gerhards.de
X-WR-CALDESC:Veranstaltungen für rainer-gerhards.de
REFRESH-INTERVAL;VALUE=DURATION:PT1H
X-Robots-Tag:noindex
X-PUBLISHED-TTL:PT1H
BEGIN:VTIMEZONE
TZID:Europe/Berlin
BEGIN:DAYLIGHT
TZOFFSETFROM:+0100
TZOFFSETTO:+0200
TZNAME:CEST
DTSTART:20230326T010000
END:DAYLIGHT
BEGIN:STANDARD
TZOFFSETFROM:+0200
TZOFFSETTO:+0100
TZNAME:CET
DTSTART:20231029T010000
END:STANDARD
BEGIN:DAYLIGHT
TZOFFSETFROM:+0100
TZOFFSETTO:+0200
TZNAME:CEST
DTSTART:20240331T010000
END:DAYLIGHT
BEGIN:STANDARD
TZOFFSETFROM:+0200
TZOFFSETTO:+0100
TZNAME:CET
DTSTART:20241027T010000
END:STANDARD
BEGIN:DAYLIGHT
TZOFFSETFROM:+0100
TZOFFSETTO:+0200
TZNAME:CEST
DTSTART:20250330T010000
END:DAYLIGHT
BEGIN:STANDARD
TZOFFSETFROM:+0200
TZOFFSETTO:+0100
TZNAME:CET
DTSTART:20251026T010000
END:STANDARD
END:VTIMEZONE
BEGIN:VEVENT
DTSTART;TZID=Europe/Berlin:20240119T180000
DTEND;TZID=Europe/Berlin:20240119T200000
DTSTAMP:20260424T113351
CREATED:20240114T114738Z
LAST-MODIFIED:20240114T114740Z
UID:17594-1705687200-1705694400@www.rainer-gerhards.de
SUMMARY:Vortrag zum Heizungsgesetz
DESCRIPTION:Aktuell ist der Klimaschutz in aller Munde und die Energie- und Heizungswende beschäftigt seit diesem Jahr viele Menschen in Deutschland. Daher freuen wiruns\, dass wir einen profunden Fachmann zum Thema „Neues Heizungsgesetz: Kostengünstige Lösungen für Bestandsheizungen“ gewinnen konnten. \n\n\n\nAm Freitag\, den 19.01.2024\, 18.00 Uhr\, Turnhalle Großrinderfeld\, wird Herr Dr. Sebastian Fiedler\, Energie- und Umweltschutzberater des Förderkreises Umweltschutz Unterfranken\, einen Vortrag zu diesem Thema halten. \n\n\n\nDer Eintritt ist frei\, über eine Spende für den Förderkreis würden wir uns freuen.
URL:https://www.rainer-gerhards.de/veranstaltung/vortrag-zum-heizungsgesetz/
LOCATION:Turnhalle Großrinderfeld\, Frankenstraße 11\, Großrinderfeld\, Baden-Württemberg\, 97950\, Deutschland
END:VEVENT
END:VCALENDAR