BEGIN:VCALENDAR
VERSION:2.0
PRODID:-//rainer-gerhards.de - ECPv6.15.12.2//NONSGML v1.0//EN
CALSCALE:GREGORIAN
METHOD:PUBLISH
X-ORIGINAL-URL:https://www.rainer-gerhards.de
X-WR-CALDESC:Veranstaltungen für rainer-gerhards.de
REFRESH-INTERVAL;VALUE=DURATION:PT1H
X-Robots-Tag:noindex
X-PUBLISHED-TTL:PT1H
BEGIN:VTIMEZONE
TZID:Europe/Berlin
BEGIN:DAYLIGHT
TZOFFSETFROM:+0100
TZOFFSETTO:+0200
TZNAME:CEST
DTSTART:20220327T010000
END:DAYLIGHT
BEGIN:STANDARD
TZOFFSETFROM:+0200
TZOFFSETTO:+0100
TZNAME:CET
DTSTART:20221030T010000
END:STANDARD
BEGIN:DAYLIGHT
TZOFFSETFROM:+0100
TZOFFSETTO:+0200
TZNAME:CEST
DTSTART:20230326T010000
END:DAYLIGHT
BEGIN:STANDARD
TZOFFSETFROM:+0200
TZOFFSETTO:+0100
TZNAME:CET
DTSTART:20231029T010000
END:STANDARD
BEGIN:DAYLIGHT
TZOFFSETFROM:+0100
TZOFFSETTO:+0200
TZNAME:CEST
DTSTART:20240331T010000
END:DAYLIGHT
BEGIN:STANDARD
TZOFFSETFROM:+0200
TZOFFSETTO:+0100
TZNAME:CET
DTSTART:20241027T010000
END:STANDARD
END:VTIMEZONE
BEGIN:VEVENT
DTSTART;TZID=Europe/Berlin:20231217T133000
DTEND;TZID=Europe/Berlin:20231217T180000
DTSTAMP:20260424T101441
CREATED:20231215T174509Z
LAST-MODIFIED:20231216T165415Z
UID:17260-1702819800-1702836000@www.rainer-gerhards.de
SUMMARY:Weihnachtsmarkt Gerchsheim 2023
DESCRIPTION:Der traditionelle Gerchsheimer Weihnachtsmarkt in seiner 2023er Auflage.  \n\n\n\nZwischen Kirche und Rathaus in der Herrenstraße werden die Besucher durch Lichterglanz\, weihnachtlichen Melodien\, Düften nach Glühwein und Tannengrün in weihnachtliche Stimmung gebracht. Der Weihnachtsmarkt ist ein Anziehungspunkt für Jung und Alt aus Gerchsheim und Umgebung. \n\n\n\nWeitere Infos im Artikel zu Weihnachtsmarkt.
URL:https://www.rainer-gerhards.de/veranstaltung/weihnachtsmarkt-gerchsheim/
LOCATION:Gerchsheim\, Gerchsheim\, 97950\, Deutschland
END:VEVENT
END:VCALENDAR