BEGIN:VCALENDAR
VERSION:2.0
PRODID:-//rainer-gerhards.de - ECPv6.15.12.2//NONSGML v1.0//EN
CALSCALE:GREGORIAN
METHOD:PUBLISH
X-ORIGINAL-URL:https://www.rainer-gerhards.de
X-WR-CALDESC:Veranstaltungen für rainer-gerhards.de
REFRESH-INTERVAL;VALUE=DURATION:PT1H
X-Robots-Tag:noindex
X-PUBLISHED-TTL:PT1H
BEGIN:VTIMEZONE
TZID:Europe/Berlin
BEGIN:DAYLIGHT
TZOFFSETFROM:+0100
TZOFFSETTO:+0200
TZNAME:CEST
DTSTART:20220327T010000
END:DAYLIGHT
BEGIN:STANDARD
TZOFFSETFROM:+0200
TZOFFSETTO:+0100
TZNAME:CET
DTSTART:20221030T010000
END:STANDARD
BEGIN:DAYLIGHT
TZOFFSETFROM:+0100
TZOFFSETTO:+0200
TZNAME:CEST
DTSTART:20230326T010000
END:DAYLIGHT
BEGIN:STANDARD
TZOFFSETFROM:+0200
TZOFFSETTO:+0100
TZNAME:CET
DTSTART:20231029T010000
END:STANDARD
BEGIN:DAYLIGHT
TZOFFSETFROM:+0100
TZOFFSETTO:+0200
TZNAME:CEST
DTSTART:20240331T010000
END:DAYLIGHT
BEGIN:STANDARD
TZOFFSETFROM:+0200
TZOFFSETTO:+0100
TZNAME:CET
DTSTART:20241027T010000
END:STANDARD
END:VTIMEZONE
BEGIN:VEVENT
DTSTART;TZID=Europe/Berlin:20231209T153000
DTEND;TZID=Europe/Berlin:20231209T210000
DTSTAMP:20260424T101555
CREATED:20231204T120529Z
LAST-MODIFIED:20231204T120716Z
UID:17062-1702135800-1702155600@www.rainer-gerhards.de
SUMMARY:TSV Winterzauber
DESCRIPTION:Anstelle der gewohnten Weihnachtsfeier wird der TSV Gerchsheim dieses Jahr einen TSV-Winterzauber veranstalten. \n\n\n\n\n\n\n\nDie Kinder und die gesamte Bevölkerung ist eingeladen! Wir sehen uns auf dem weihnachtlich geschmückten Vorplatz der Turnhalle in Gerchsheim. \n\n\n\nKommt auf ein Glas Punsch oder Glühwein und genießt in aufgelockerter Atmosphäre die unterschiedlichsten Leckereien an der TSV-Weihnachtsschlemmerlaube. \n\n\n\nUm 16:30 haben sich Besucher vom Nordpol angekündigt! \n\n\n\nFür die Kleinen sind kreative Mitmach-Angebote vorbereitet.
URL:https://www.rainer-gerhards.de/veranstaltung/tsv-winterzauber/
LOCATION:Turnhalle Gerchsheim\, Großrinderfeld-Gerchsheim\, 97950\, Deutschland
END:VEVENT
END:VCALENDAR