BEGIN:VCALENDAR
VERSION:2.0
PRODID:-//rainer-gerhards.de - ECPv6.15.12.2//NONSGML v1.0//EN
CALSCALE:GREGORIAN
METHOD:PUBLISH
X-WR-CALNAME:rainer-gerhards.de
X-ORIGINAL-URL:https://www.rainer-gerhards.de
X-WR-CALDESC:Veranstaltungen für rainer-gerhards.de
REFRESH-INTERVAL;VALUE=DURATION:PT1H
X-Robots-Tag:noindex
X-PUBLISHED-TTL:PT1H
BEGIN:VTIMEZONE
TZID:Europe/Berlin
BEGIN:DAYLIGHT
TZOFFSETFROM:+0100
TZOFFSETTO:+0200
TZNAME:CEST
DTSTART:20220327T010000
END:DAYLIGHT
BEGIN:STANDARD
TZOFFSETFROM:+0200
TZOFFSETTO:+0100
TZNAME:CET
DTSTART:20221030T010000
END:STANDARD
BEGIN:DAYLIGHT
TZOFFSETFROM:+0100
TZOFFSETTO:+0200
TZNAME:CEST
DTSTART:20230326T010000
END:DAYLIGHT
BEGIN:STANDARD
TZOFFSETFROM:+0200
TZOFFSETTO:+0100
TZNAME:CET
DTSTART:20231029T010000
END:STANDARD
BEGIN:DAYLIGHT
TZOFFSETFROM:+0100
TZOFFSETTO:+0200
TZNAME:CEST
DTSTART:20240331T010000
END:DAYLIGHT
BEGIN:STANDARD
TZOFFSETFROM:+0200
TZOFFSETTO:+0100
TZNAME:CET
DTSTART:20241027T010000
END:STANDARD
END:VTIMEZONE
BEGIN:VEVENT
DTSTART;TZID=Europe/Berlin:20230509T190000
DTEND;TZID=Europe/Berlin:20230509T203000
DTSTAMP:20260424T020450
CREATED:20230505T172450Z
LAST-MODIFIED:20230505T172451Z
UID:16074-1683658800-1683664200@www.rainer-gerhards.de
SUMMARY:Informationsveranstaltung zu „Energie Großrinderfeld“
DESCRIPTION:Bürgermeister Leibold stellt die Konzeption vor. Es bietet sich ausreichend Gelegenheit zum Fragen stellen. Die Veranstaltung dauert\, so lange Diskussionsbedarf ist.
URL:https://www.rainer-gerhards.de/veranstaltung/informationsveranstaltung-zu-energie-grossrinderfeld-3/
LOCATION:Bürger- und Vereinsheim Ilmspan\, Mozartstr.\, 21\, Großrinderfeld-Ilmspan\, BW\, 97950\, Deutschland
CATEGORIES:Erneuerbare Energie
END:VEVENT
END:VCALENDAR