BEGIN:VCALENDAR
VERSION:2.0
PRODID:-//rainer-gerhards.de - ECPv6.15.12.2//NONSGML v1.0//EN
CALSCALE:GREGORIAN
METHOD:PUBLISH
X-ORIGINAL-URL:https://www.rainer-gerhards.de
X-WR-CALDESC:Veranstaltungen für rainer-gerhards.de
REFRESH-INTERVAL;VALUE=DURATION:PT1H
X-Robots-Tag:noindex
X-PUBLISHED-TTL:PT1H
BEGIN:VTIMEZONE
TZID:Europe/Berlin
BEGIN:DAYLIGHT
TZOFFSETFROM:+0100
TZOFFSETTO:+0200
TZNAME:CEST
DTSTART:20220327T010000
END:DAYLIGHT
BEGIN:STANDARD
TZOFFSETFROM:+0200
TZOFFSETTO:+0100
TZNAME:CET
DTSTART:20221030T010000
END:STANDARD
BEGIN:DAYLIGHT
TZOFFSETFROM:+0100
TZOFFSETTO:+0200
TZNAME:CEST
DTSTART:20230326T010000
END:DAYLIGHT
BEGIN:STANDARD
TZOFFSETFROM:+0200
TZOFFSETTO:+0100
TZNAME:CET
DTSTART:20231029T010000
END:STANDARD
BEGIN:DAYLIGHT
TZOFFSETFROM:+0100
TZOFFSETTO:+0200
TZNAME:CEST
DTSTART:20240331T010000
END:DAYLIGHT
BEGIN:STANDARD
TZOFFSETFROM:+0200
TZOFFSETTO:+0100
TZNAME:CET
DTSTART:20241027T010000
END:STANDARD
END:VTIMEZONE
BEGIN:VEVENT
DTSTART;TZID=Europe/Berlin:20230501T100000
DTEND;TZID=Europe/Berlin:20230501T180000
DTSTAMP:20260424T004003
CREATED:20230427T153840Z
LAST-MODIFIED:20230428T070430Z
UID:15953-1682935200-1682964000@www.rainer-gerhards.de
SUMMARY:NABU Seefest
DESCRIPTION:Der NABU Großrinderfeld lädt auch dieses Jahr wieder alle Feiertagswanderer und-radler zum traditionellen Seefest ein.
URL:https://www.rainer-gerhards.de/veranstaltung/nabu-seefest/
LOCATION:Seehütte Großrinderfeld\, Großrinderfeld\, Baden-Württemberg\, 97950\, Deutschland
CATEGORIES:NABU
ATTACH;FMTTYPE=image/jpeg:https://www.rainer-gerhards.de/files/2019/05/2019-05-01-NABU-Seefest-Großrinderfeld-P1010967-2x1.jpg
ORGANIZER;CN="NABU Gro%C3%9Frinderfeld":MAILTO:info@nabu-grossrinderfeld.de
END:VEVENT
END:VCALENDAR