BEGIN:VCALENDAR
VERSION:2.0
PRODID:-//rainer-gerhards.de - ECPv6.15.12.2//NONSGML v1.0//EN
CALSCALE:GREGORIAN
METHOD:PUBLISH
X-WR-CALNAME:rainer-gerhards.de
X-ORIGINAL-URL:https://www.rainer-gerhards.de
X-WR-CALDESC:Veranstaltungen für rainer-gerhards.de
REFRESH-INTERVAL;VALUE=DURATION:PT1H
X-Robots-Tag:noindex
X-PUBLISHED-TTL:PT1H
BEGIN:VTIMEZONE
TZID:Europe/Berlin
BEGIN:DAYLIGHT
TZOFFSETFROM:+0100
TZOFFSETTO:+0200
TZNAME:CEST
DTSTART:20190331T010000
END:DAYLIGHT
BEGIN:STANDARD
TZOFFSETFROM:+0200
TZOFFSETTO:+0100
TZNAME:CET
DTSTART:20191027T010000
END:STANDARD
BEGIN:DAYLIGHT
TZOFFSETFROM:+0100
TZOFFSETTO:+0200
TZNAME:CEST
DTSTART:20200329T010000
END:DAYLIGHT
BEGIN:STANDARD
TZOFFSETFROM:+0200
TZOFFSETTO:+0100
TZNAME:CET
DTSTART:20201025T010000
END:STANDARD
BEGIN:DAYLIGHT
TZOFFSETFROM:+0100
TZOFFSETTO:+0200
TZNAME:CEST
DTSTART:20210328T010000
END:DAYLIGHT
BEGIN:STANDARD
TZOFFSETFROM:+0200
TZOFFSETTO:+0100
TZNAME:CET
DTSTART:20211031T010000
END:STANDARD
END:VTIMEZONE
BEGIN:VEVENT
DTSTART;TZID=Europe/Berlin:20200619T100000
DTEND;TZID=Europe/Berlin:20200619T104500
DTSTAMP:20260423T163025
CREATED:20200616T103910Z
LAST-MODIFIED:20200616T103910Z
UID:7111-1592560800-1592563500@www.rainer-gerhards.de
SUMMARY:Webinar: Open Source – Wie kann ich mitmachen?
DESCRIPTION:Im Rahmen des bundesweiten Digitaltages 2020 spricht rsyslog-Teamlead Rainer Gerhards darüber\, wie man sich an Open Source beteiligen kann. Und zwar auch als Nicht-Techniker. \nDetails zur Veranstaltung inkl. Link zum Livestream.
URL:https://www.rainer-gerhards.de/veranstaltung/webinar-open-source-wie-kann-ich-mitmachen/
LOCATION:Online
ATTACH;FMTTYPE=image/jpeg:https://www.rainer-gerhards.de/files/2018/02/datecenter-pexels-cropped-1mb-server-159282.jpg
END:VEVENT
BEGIN:VEVENT
DTSTART;TZID=Europe/Berlin:20200619T183000
DTEND;TZID=Europe/Berlin:20200619T200000
DTSTAMP:20260423T163025
CREATED:20200616T103427Z
LAST-MODIFIED:20200616T103427Z
UID:7107-1592591400-1592596800@www.rainer-gerhards.de
SUMMARY:Auftaktveranstaltung "Unser Dorf hat Zukunft"
DESCRIPTION:Der Ortschaftsrat Großrinderfeld beteiligt sich am Wettbewerb „Unser Dorf hat Zukunft“. Was das heißt\, und wie es angegangen werden soll\, wird in der Auftaktveranstaltung besprochen. \nWeitere Details hier.
URL:https://www.rainer-gerhards.de/veranstaltung/auftaktveranstaltung-unser-dorf-hat-zukunft/
LOCATION:Online
ATTACH;FMTTYPE=image/jpeg:https://www.rainer-gerhards.de/files/2019/04/2019-Osterkrone-Grossrinderfeld.jpg
ORGANIZER;CN="Ortschaftsrat Gro%C3%9Frinderfeld":MAILTO:Lutz-Grossrinderfeld@t-online.de
END:VEVENT
END:VCALENDAR