BEGIN:VCALENDAR
VERSION:2.0
PRODID:-//rainer-gerhards.de - ECPv6.15.12.2//NONSGML v1.0//EN
CALSCALE:GREGORIAN
METHOD:PUBLISH
X-WR-CALNAME:rainer-gerhards.de
X-ORIGINAL-URL:https://www.rainer-gerhards.de
X-WR-CALDESC:Veranstaltungen für rainer-gerhards.de
REFRESH-INTERVAL;VALUE=DURATION:PT1H
X-Robots-Tag:noindex
X-PUBLISHED-TTL:PT1H
BEGIN:VTIMEZONE
TZID:Europe/Berlin
BEGIN:DAYLIGHT
TZOFFSETFROM:+0100
TZOFFSETTO:+0200
TZNAME:CEST
DTSTART:20190331T010000
END:DAYLIGHT
BEGIN:STANDARD
TZOFFSETFROM:+0200
TZOFFSETTO:+0100
TZNAME:CET
DTSTART:20191027T010000
END:STANDARD
BEGIN:DAYLIGHT
TZOFFSETFROM:+0100
TZOFFSETTO:+0200
TZNAME:CEST
DTSTART:20200329T010000
END:DAYLIGHT
BEGIN:STANDARD
TZOFFSETFROM:+0200
TZOFFSETTO:+0100
TZNAME:CET
DTSTART:20201025T010000
END:STANDARD
BEGIN:DAYLIGHT
TZOFFSETFROM:+0100
TZOFFSETTO:+0200
TZNAME:CEST
DTSTART:20210328T010000
END:DAYLIGHT
BEGIN:STANDARD
TZOFFSETFROM:+0200
TZOFFSETTO:+0100
TZNAME:CET
DTSTART:20211031T010000
END:STANDARD
END:VTIMEZONE
BEGIN:VEVENT
DTSTART;TZID=Europe/Berlin:20200616T190000
DTEND;TZID=Europe/Berlin:20200616T210000
DTSTAMP:20260423T164524
CREATED:20200530T112425Z
LAST-MODIFIED:20200530T112447Z
UID:7019-1592334000-1592341200@www.rainer-gerhards.de
SUMMARY:Öffentliche Sitzung des Gemeinderats
DESCRIPTION:Dies ist ein geplanter Termin\, der sich noch verschieben kann. Frühestens 7 Tage vorher stehen die Details inkl. Tagesordnung hier im Kalendereintrag zur Verfügung.
URL:https://www.rainer-gerhards.de/veranstaltung/oeffentliche-sitzung-des-gemeinderats/
LOCATION:Turnhalle Gerchsheim\, Großrinderfeld-Gerchsheim\, 97950\, Deutschland
ATTACH;FMTTYPE=image/jpeg:https://www.rainer-gerhards.de/files/2019/07/Gemeinderat.jpg
END:VEVENT
END:VCALENDAR