BEGIN:VCALENDAR
VERSION:2.0
PRODID:-//rainer-gerhards.de - ECPv6.15.12.2//NONSGML v1.0//EN
CALSCALE:GREGORIAN
METHOD:PUBLISH
X-ORIGINAL-URL:https://www.rainer-gerhards.de
X-WR-CALDESC:Veranstaltungen für rainer-gerhards.de
REFRESH-INTERVAL;VALUE=DURATION:PT1H
X-Robots-Tag:noindex
X-PUBLISHED-TTL:PT1H
BEGIN:VTIMEZONE
TZID:Europe/Berlin
BEGIN:DAYLIGHT
TZOFFSETFROM:+0100
TZOFFSETTO:+0200
TZNAME:CEST
DTSTART:20190331T010000
END:DAYLIGHT
BEGIN:STANDARD
TZOFFSETFROM:+0200
TZOFFSETTO:+0100
TZNAME:CET
DTSTART:20191027T010000
END:STANDARD
BEGIN:DAYLIGHT
TZOFFSETFROM:+0100
TZOFFSETTO:+0200
TZNAME:CEST
DTSTART:20200329T010000
END:DAYLIGHT
BEGIN:STANDARD
TZOFFSETFROM:+0200
TZOFFSETTO:+0100
TZNAME:CET
DTSTART:20201025T010000
END:STANDARD
BEGIN:DAYLIGHT
TZOFFSETFROM:+0100
TZOFFSETTO:+0200
TZNAME:CEST
DTSTART:20210328T010000
END:DAYLIGHT
BEGIN:STANDARD
TZOFFSETFROM:+0200
TZOFFSETTO:+0100
TZNAME:CET
DTSTART:20211031T010000
END:STANDARD
END:VTIMEZONE
BEGIN:VEVENT
DTSTART;TZID=Europe/Berlin:20200406T190000
DTEND;TZID=Europe/Berlin:20200406T210000
DTSTAMP:20260419T162756
CREATED:20200306T115540Z
LAST-MODIFIED:20200306T115540Z
UID:4714-1586199600-1586206800@www.rainer-gerhards.de
SUMMARY:Bürgerversammlung
DESCRIPTION:Hauptthema ist Kinderbetreuung und Kindergarten und insbesondere die Vorstellung die Ergebnisse der Elternbefragung hierzu. \nFrau Höhn\, die auch damals als externe Beraterin in der „Denkwerkstatt“ bereits mitwirkte\, wird nicht nur die Ergebnisse präsentieren sondern auch Fragen hierzu beantworten. \nAlle Interessierten aus Großrinderfeld\, Gerchsheim\, Schönfeld\, Ilmspan und Hof Baiertal sind eingeladen. \nAchtung: Uhrzeit steht noch nicht endgültig fest und kann sich noch etwas ändern.
URL:https://www.rainer-gerhards.de/veranstaltung/buergerversammlung/
LOCATION:Turnhalle Großrinderfeld\, Frankenstraße 11\, Großrinderfeld\, Baden-Württemberg\, 97950\, Deutschland
ATTACH;FMTTYPE=image/jpeg:https://www.rainer-gerhards.de/files/2019/04/Grossrinderfeld-Rathaus.jpg
END:VEVENT
END:VCALENDAR